BEGIN:VCALENDAR
VERSION:2.0
PRODID:KKTIX
CALSCALE:GREGORIAN
METHOD:PUBLISH
BEGIN:VTIMEZONE
TZID:Asia/Taipei
END:VTIMEZONE
BEGIN:VEVENT
DTSTAMP:20260420T035054Z
UID:8713a0ca-980e-4d4a-83f2-d7b84c829a88
DTSTART:20260616T110000Z
DTEND:20260616T140000Z
CLASS:PUBLIC
DESCRIPTION:https://1500.kktix.cc/events/aimusic260616
LOCATION: (台北市信義區菸廠路88號5樓之8) 1500聲量音創學院
SUMMARY:1500 SOUND ACADEMY 聲量音創學院 6/16 (二) AI音樂創作課
 程+實戰
END:VEVENT
END:VCALENDAR
